BEGIN:VCALENDAR
VERSION:2.0
PRODID:-//Nevada Green Business Network - ECPv6.15.17.1//NONSGML v1.0//EN
CALSCALE:GREGORIAN
METHOD:PUBLISH
X-WR-CALNAME:Nevada Green Business Network
X-ORIGINAL-URL:https://nvgreenbusiness.org
X-WR-CALDESC:Events for Nevada Green Business Network
REFRESH-INTERVAL;VALUE=DURATION:PT1H
X-Robots-Tag:noindex
X-PUBLISHED-TTL:PT1H
BEGIN:VTIMEZONE
TZID:America/Los_Angeles
BEGIN:DAYLIGHT
TZOFFSETFROM:-0800
TZOFFSETTO:-0700
TZNAME:PDT
DTSTART:20240310T100000
END:DAYLIGHT
BEGIN:STANDARD
TZOFFSETFROM:-0700
TZOFFSETTO:-0800
TZNAME:PST
DTSTART:20241103T090000
END:STANDARD
BEGIN:DAYLIGHT
TZOFFSETFROM:-0800
TZOFFSETTO:-0700
TZNAME:PDT
DTSTART:20250309T100000
END:DAYLIGHT
BEGIN:STANDARD
TZOFFSETFROM:-0700
TZOFFSETTO:-0800
TZNAME:PST
DTSTART:20251102T090000
END:STANDARD
BEGIN:DAYLIGHT
TZOFFSETFROM:-0800
TZOFFSETTO:-0700
TZNAME:PDT
DTSTART:20260308T100000
END:DAYLIGHT
BEGIN:STANDARD
TZOFFSETFROM:-0700
TZOFFSETTO:-0800
TZNAME:PST
DTSTART:20261101T090000
END:STANDARD
END:VTIMEZONE
BEGIN:VEVENT
DTSTART;TZID=America/Los_Angeles:20250923T083000
DTEND;TZID=America/Los_Angeles:20250923T120000
DTSTAMP:20260419T160452
CREATED:20250828T211417Z
LAST-MODIFIED:20250828T212954Z
UID:10000091-1758616200-1758628800@nvgreenbusiness.org
SUMMARY:Green Business Certification Training
DESCRIPTION:Join us on September 23 to learn about NVGBN’s FREE green business certification.
URL:https://nvgreenbusiness.org/event/green-business-certification-training/
LOCATION:R+S Chamber of Commerce\, 4065 South Virginia Street #101\, Reno\, NV\, 89502
CATEGORIES:Green Business,Pollution Prevention,Reno Event,Sustainability
ATTACH;FMTTYPE=image/png:https://nvgreenbusiness.org/wp-content/uploads/2025/08/9-23-UPDATE.png
ORGANIZER;CN="greenUP!":MAILTO:info@greenupnow.biz
END:VEVENT
BEGIN:VEVENT
DTSTART;TZID=America/Los_Angeles:20251002T080000
DTEND;TZID=America/Los_Angeles:20251002T123000
DTSTAMP:20260419T160452
CREATED:20250828T214245Z
LAST-MODIFIED:20250828T220921Z
UID:10000093-1759392000-1759408200@nvgreenbusiness.org
SUMMARY:Nevada Energy Economy Summit - Accomplishments and Challenges
DESCRIPTION:This FREE event is a convening of experts will enable a practical dialog about how we all play a significant role in the future of our clean energy economy.  Experts speak about leading issues facing our state.  How do we leverage each other’s work for a stronger local community? Everyone is welcome.  Registration is required.
URL:https://nvgreenbusiness.org/event/nevada-energy-economy-summit-accomplishments-and-challenges/
CATEGORIES:Climate Action,Green Business,Pollution Prevention,Reno Event,Sustainability
ATTACH;FMTTYPE=image/jpeg:https://nvgreenbusiness.org/wp-content/uploads/2025/08/SM-Nevadas-Energy-Economy-–-Official-Sav-e-the-Date.jpg
END:VEVENT
BEGIN:VEVENT
DTSTART;TZID=America/Los_Angeles:20251118T083000
DTEND;TZID=America/Los_Angeles:20251118T120000
DTSTAMP:20260419T160452
CREATED:20250828T211742Z
LAST-MODIFIED:20250828T213145Z
UID:10000092-1763454600-1763467200@nvgreenbusiness.org
SUMMARY:Green Business Certification Training
DESCRIPTION:Join us on November 18 to learn about NVGBN’s FREE green business certification.
URL:https://nvgreenbusiness.org/event/green-business-certification-training-2/
LOCATION:R+S Chamber of Commerce\, 4065 South Virginia Street #101\, Reno\, NV\, 89502
CATEGORIES:Green Business,Pollution Prevention,Reno Event,Sustainability
ATTACH;FMTTYPE=image/png:https://nvgreenbusiness.org/wp-content/uploads/2025/08/11-18-UPDATE.png
ORGANIZER;CN="greenUP!":MAILTO:info@greenupnow.biz
END:VEVENT
END:VCALENDAR