BEGIN:VCALENDAR
VERSION:2.0
PRODID:-//Nevada Green Business Network - ECPv6.15.17.1//NONSGML v1.0//EN
CALSCALE:GREGORIAN
METHOD:PUBLISH
X-ORIGINAL-URL:https://nvgreenbusiness.org
X-WR-CALDESC:Events for Nevada Green Business Network
REFRESH-INTERVAL;VALUE=DURATION:PT1H
X-Robots-Tag:noindex
X-PUBLISHED-TTL:PT1H
BEGIN:VTIMEZONE
TZID:America/Los_Angeles
BEGIN:DAYLIGHT
TZOFFSETFROM:-0800
TZOFFSETTO:-0700
TZNAME:PDT
DTSTART:20210314T100000
END:DAYLIGHT
BEGIN:STANDARD
TZOFFSETFROM:-0700
TZOFFSETTO:-0800
TZNAME:PST
DTSTART:20211107T090000
END:STANDARD
BEGIN:DAYLIGHT
TZOFFSETFROM:-0800
TZOFFSETTO:-0700
TZNAME:PDT
DTSTART:20220313T100000
END:DAYLIGHT
BEGIN:STANDARD
TZOFFSETFROM:-0700
TZOFFSETTO:-0800
TZNAME:PST
DTSTART:20221106T090000
END:STANDARD
BEGIN:DAYLIGHT
TZOFFSETFROM:-0800
TZOFFSETTO:-0700
TZNAME:PDT
DTSTART:20230312T100000
END:DAYLIGHT
BEGIN:STANDARD
TZOFFSETFROM:-0700
TZOFFSETTO:-0800
TZNAME:PST
DTSTART:20231105T090000
END:STANDARD
BEGIN:DAYLIGHT
TZOFFSETFROM:-0800
TZOFFSETTO:-0700
TZNAME:PDT
DTSTART:20240310T100000
END:DAYLIGHT
BEGIN:STANDARD
TZOFFSETFROM:-0700
TZOFFSETTO:-0800
TZNAME:PST
DTSTART:20241103T090000
END:STANDARD
BEGIN:DAYLIGHT
TZOFFSETFROM:-0800
TZOFFSETTO:-0700
TZNAME:PDT
DTSTART:20250309T100000
END:DAYLIGHT
BEGIN:STANDARD
TZOFFSETFROM:-0700
TZOFFSETTO:-0800
TZNAME:PST
DTSTART:20251102T090000
END:STANDARD
END:VTIMEZONE
BEGIN:VEVENT
DTSTART;TZID=America/Los_Angeles:20231226T090000
DTEND;TZID=America/Los_Angeles:20240107T163000
DTSTAMP:20260419T173218
CREATED:20231121T174726Z
LAST-MODIFIED:20231121T174726Z
UID:10000074-1703581200-1704645000@nvgreenbusiness.org
SUMMARY:KTMB Christmas Tree Recycling
DESCRIPTION:Keep Truckee Meadows Beautiful is doing its annual Christmas Tree Recycling event beginning Tuesday\, December 26 through Sunday January 7 from 9am to 4:30pm daily.
URL:https://nvgreenbusiness.org/event/ktmb-christmas-tree-recycling/
CATEGORIES:Pollution Prevention,Reno Event,Sustainability
ATTACH;FMTTYPE=image/png:https://nvgreenbusiness.org/wp-content/uploads/2023/11/KTMB-Christmas-Tree-Recycling.png
END:VEVENT
BEGIN:VEVENT
DTSTART;TZID=America/Los_Angeles:20230718T083000
DTEND;TZID=America/Los_Angeles:20230718T120000
DTSTAMP:20260419T173218
CREATED:20230704T013012Z
LAST-MODIFIED:20230704T020732Z
UID:10000071-1689669000-1689681600@nvgreenbusiness.org
SUMMARY:
DESCRIPTION:The Reno+Sparks Chamber of Commerce is partnering with the Nevada Green Business Network\n(www.nvgreenbusiness.org) to support Chamber members in getting certified as a green business. \nBUSINESSES WILL LEARN:\nBecoming a green business is a great way to increase profitability. Reducing utility costs through\nenergy and water savings can free up resources that can be invested in strategic priorities. Learn\nhow green certification can help to expand your customer base by attracting environmentally\nconscious consumers.
URL:https://nvgreenbusiness.org/event/5424/
CATEGORIES:Climate Action,Green Business,Pollution Prevention,Reno Event,Sustainability
ATTACH;FMTTYPE=image/png:https://nvgreenbusiness.org/wp-content/uploads/2023/07/Social-Media-1.png
END:VEVENT
BEGIN:VEVENT
DTSTART;TZID=America/Los_Angeles:20221018T080000
DTEND;TZID=America/Los_Angeles:20221020T170000
DTSTAMP:20260419T173218
CREATED:20221004T023345Z
LAST-MODIFIED:20221004T023345Z
UID:10000068-1666080000-1666285200@nvgreenbusiness.org
SUMMARY:Region 9/10 Pollution Prevention Roundtable
DESCRIPTION:P2 West is hosted by the Pacific Northwest Pollution Prevention Resource Center and is scheduled for October 18-20 in Portland\, Oregon. \nConference topics include environmental justice\, Safer Choice\, Environmental Preferable Purchasing\, advances in toxics reduction\, Pollution Prevention (P2) technology\, and emerging issues. Hands-on demonstrations of state-of-the-art P2 technologies and assessment training will be offered. A guided tour of EcoBiz certified businesses in the Portland area is planned\, as well as presentations on a variety of successful programs from across the country. This year’s event will feature keynote speaker Jennie Romer\, Deputy Assistant Administrator for Pollution Prevention within the Office of Chemical Safety and Pollution Prevention\, US EPA.
URL:https://nvgreenbusiness.org/event/region-9-10-pollution-prevention-roundtable/
CATEGORIES:Climate Action,Pollution Prevention,Sustainability
ATTACH;FMTTYPE=image/png:https://nvgreenbusiness.org/wp-content/uploads/2022/10/Logo-2022-transparent.png
END:VEVENT
END:VCALENDAR