BEGIN:VCALENDAR
VERSION:2.0
PRODID:-//Nevada Green Business Network - ECPv6.15.17.1//NONSGML v1.0//EN
CALSCALE:GREGORIAN
METHOD:PUBLISH
X-ORIGINAL-URL:https://nvgreenbusiness.org
X-WR-CALDESC:Events for Nevada Green Business Network
REFRESH-INTERVAL;VALUE=DURATION:PT1H
X-Robots-Tag:noindex
X-PUBLISHED-TTL:PT1H
BEGIN:VTIMEZONE
TZID:America/Los_Angeles
BEGIN:DAYLIGHT
TZOFFSETFROM:-0800
TZOFFSETTO:-0700
TZNAME:PDT
DTSTART:20200308T100000
END:DAYLIGHT
BEGIN:STANDARD
TZOFFSETFROM:-0700
TZOFFSETTO:-0800
TZNAME:PST
DTSTART:20201101T090000
END:STANDARD
BEGIN:DAYLIGHT
TZOFFSETFROM:-0800
TZOFFSETTO:-0700
TZNAME:PDT
DTSTART:20210314T100000
END:DAYLIGHT
BEGIN:STANDARD
TZOFFSETFROM:-0700
TZOFFSETTO:-0800
TZNAME:PST
DTSTART:20211107T090000
END:STANDARD
BEGIN:DAYLIGHT
TZOFFSETFROM:-0800
TZOFFSETTO:-0700
TZNAME:PDT
DTSTART:20220313T100000
END:DAYLIGHT
BEGIN:STANDARD
TZOFFSETFROM:-0700
TZOFFSETTO:-0800
TZNAME:PST
DTSTART:20221106T090000
END:STANDARD
BEGIN:DAYLIGHT
TZOFFSETFROM:-0800
TZOFFSETTO:-0700
TZNAME:PDT
DTSTART:20230312T100000
END:DAYLIGHT
BEGIN:STANDARD
TZOFFSETFROM:-0700
TZOFFSETTO:-0800
TZNAME:PST
DTSTART:20231105T090000
END:STANDARD
BEGIN:DAYLIGHT
TZOFFSETFROM:-0800
TZOFFSETTO:-0700
TZNAME:PDT
DTSTART:20240310T100000
END:DAYLIGHT
BEGIN:STANDARD
TZOFFSETFROM:-0700
TZOFFSETTO:-0800
TZNAME:PST
DTSTART:20241103T090000
END:STANDARD
BEGIN:DAYLIGHT
TZOFFSETFROM:-0800
TZOFFSETTO:-0700
TZNAME:PDT
DTSTART:20250309T100000
END:DAYLIGHT
BEGIN:STANDARD
TZOFFSETFROM:-0700
TZOFFSETTO:-0800
TZNAME:PST
DTSTART:20251102T090000
END:STANDARD
BEGIN:DAYLIGHT
TZOFFSETFROM:-0800
TZOFFSETTO:-0700
TZNAME:PDT
DTSTART:20260308T100000
END:DAYLIGHT
BEGIN:STANDARD
TZOFFSETFROM:-0700
TZOFFSETTO:-0800
TZNAME:PST
DTSTART:20261101T090000
END:STANDARD
BEGIN:DAYLIGHT
TZOFFSETFROM:-0800
TZOFFSETTO:-0700
TZNAME:PDT
DTSTART:20270314T100000
END:DAYLIGHT
BEGIN:STANDARD
TZOFFSETFROM:-0700
TZOFFSETTO:-0800
TZNAME:PST
DTSTART:20271107T090000
END:STANDARD
END:VTIMEZONE
BEGIN:VEVENT
DTSTART;TZID=America/Los_Angeles:20260318T133000
DTEND;TZID=America/Los_Angeles:20260318T170000
DTSTAMP:20260421T175552
CREATED:20260312T210114Z
LAST-MODIFIED:20260312T211221Z
UID:10000095-1773840600-1773853200@nvgreenbusiness.org
SUMMARY:EcoTour - Solar Array Tour and Sol-Up Reception
DESCRIPTION:Sign up today for the 2nd “eco-tour” scheduled for Reno Sparks Chamber of Commerce members and also free to the general public. The aim is to provide education and celebrate some great environmental work that is taking place in Northern Nevada to reduce waste\, conserve resources and create clean energy. \nThe tour will be at the Wylie Animal Reserve in Silver Springs; learn about the animals and programs that benefited from the solar arrays. After the Animal Reserve\, Sol-Up will host a reception at its Reno showroom. \nMeet outside the Reno+Sparks chamber (4065 S. Virginia St. #101Reno\, NV 89502) at 1:15\, bus leaves at 1:30pm and returns to the chamber parking lot at 5pm on March 18th. \n 
URL:https://nvgreenbusiness.org/event/ecotour-solar-array-tour-and-sol-up-reception/
LOCATION:R+S Chamber of Commerce\, 4065 South Virginia Street #101\, Reno\, NV\, 89502
CATEGORIES:Category Event,Climate Action,Green Business,Reno Event,Sustainability
ATTACH;FMTTYPE=image/png:https://nvgreenbusiness.org/wp-content/uploads/2026/03/SolUp-Solar-Array.png
END:VEVENT
BEGIN:VEVENT
DTSTART;TZID=America/Los_Angeles:20251118T083000
DTEND;TZID=America/Los_Angeles:20251118T120000
DTSTAMP:20260421T175552
CREATED:20250828T211742Z
LAST-MODIFIED:20250828T213145Z
UID:10000092-1763454600-1763467200@nvgreenbusiness.org
SUMMARY:Green Business Certification Training
DESCRIPTION:Join us on November 18 to learn about NVGBN’s FREE green business certification.
URL:https://nvgreenbusiness.org/event/green-business-certification-training-2/
LOCATION:R+S Chamber of Commerce\, 4065 South Virginia Street #101\, Reno\, NV\, 89502
CATEGORIES:Green Business,Pollution Prevention,Reno Event,Sustainability
ATTACH;FMTTYPE=image/png:https://nvgreenbusiness.org/wp-content/uploads/2025/08/11-18-UPDATE.png
ORGANIZER;CN="greenUP!":MAILTO:info@greenupnow.biz
END:VEVENT
BEGIN:VEVENT
DTSTART;TZID=America/Los_Angeles:20251002T080000
DTEND;TZID=America/Los_Angeles:20251002T123000
DTSTAMP:20260421T175552
CREATED:20250828T214245Z
LAST-MODIFIED:20250828T220921Z
UID:10000093-1759392000-1759408200@nvgreenbusiness.org
SUMMARY:Nevada Energy Economy Summit - Accomplishments and Challenges
DESCRIPTION:This FREE event is a convening of experts will enable a practical dialog about how we all play a significant role in the future of our clean energy economy.  Experts speak about leading issues facing our state.  How do we leverage each other’s work for a stronger local community? Everyone is welcome.  Registration is required.
URL:https://nvgreenbusiness.org/event/nevada-energy-economy-summit-accomplishments-and-challenges/
LOCATION:NV
CATEGORIES:Climate Action,Green Business,Pollution Prevention,Reno Event,Sustainability
ATTACH;FMTTYPE=image/jpeg:https://nvgreenbusiness.org/wp-content/uploads/2025/08/SM-Nevadas-Energy-Economy-–-Official-Sav-e-the-Date.jpg
END:VEVENT
BEGIN:VEVENT
DTSTART;TZID=America/Los_Angeles:20250923T083000
DTEND;TZID=America/Los_Angeles:20250923T120000
DTSTAMP:20260421T175552
CREATED:20250828T211417Z
LAST-MODIFIED:20250828T212954Z
UID:10000091-1758616200-1758628800@nvgreenbusiness.org
SUMMARY:Green Business Certification Training
DESCRIPTION:Join us on September 23 to learn about NVGBN’s FREE green business certification.
URL:https://nvgreenbusiness.org/event/green-business-certification-training/
LOCATION:R+S Chamber of Commerce\, 4065 South Virginia Street #101\, Reno\, NV\, 89502
CATEGORIES:Green Business,Pollution Prevention,Reno Event,Sustainability
ATTACH;FMTTYPE=image/png:https://nvgreenbusiness.org/wp-content/uploads/2025/08/9-23-UPDATE.png
ORGANIZER;CN="greenUP!":MAILTO:info@greenupnow.biz
END:VEVENT
BEGIN:VEVENT
DTSTART;TZID=America/Los_Angeles:20250618T140000
DTEND;TZID=America/Los_Angeles:20250618T150000
DTSTAMP:20260421T175552
CREATED:20250520T222448Z
LAST-MODIFIED:20250520T222448Z
UID:10000085-1750255200-1750258800@nvgreenbusiness.org
SUMMARY:Green Certification Helps Businesses Save Money and Reach climate Action Goals (a PSN Nevada Climate Forum Event)
DESCRIPTION:Donna Walden and Erica Gallegos will present Nevada Green Business Program highlights\, explain what is involved for businesses in the certification process\, and discuss the importance of published Impact Reports. \nThe Nevada Green Business Network is a coalition of organizations that came together to offer a statewide green business certification program. We work with small to medium-sized businesses to offer free assistance and recognize efforts that save energy and water\, reduce waste\, prevent pollution and stormwater impacts\, and encourage better commute options. We offer a checklist of best practices that businesses can implement\, and we certify businesses that meet minimum thresholds of environmental performance.
URL:https://nvgreenbusiness.org/event/green-certification-helps-businesses-save-money-and-reach-climate-action-goals-a-psn-nevada-climate-forum-event-2/
LOCATION:NV
CATEGORIES:Climate Action,Green Business,Pollution Prevention,Reno Event,Sustainability
ATTACH;FMTTYPE=image/jpeg:https://nvgreenbusiness.org/wp-content/uploads/2025/01/PSN-logo.jpg
END:VEVENT
BEGIN:VEVENT
DTSTART;TZID=America/Los_Angeles:20250319T140000
DTEND;TZID=America/Los_Angeles:20250319T150000
DTSTAMP:20260421T175552
CREATED:20250115T020055Z
LAST-MODIFIED:20250520T220936Z
UID:10000084-1742392800-1742396400@nvgreenbusiness.org
SUMMARY:Green Certification Helps Businesses Save Money and Reach Climate Action Goals (a PSN Nevada Climate Forum Event)
DESCRIPTION:Donna Walden and Erica Gallegos will present Nevada Green Business Program highlights\, explain what is involved for businesses in the certification process\, and reveal the results of the Impact Report for 2024. \nThe Nevada Green Business Network is a coalition of organizations that came together to offer a statewide green business certification program. We work with small to medium-sized businesses to offer free assistance and recognize efforts that save energy and water\, reduce waste\, prevent pollution and stormwater impacts\, and encourage better commute options. We offer a checklist of best practices that businesses can implement\, and we certify businesses that meet minimum thresholds of environmental performance.
URL:https://nvgreenbusiness.org/event/green-certification-helps-businesses-save-money-and-reach-climate-action-goals-a-psn-nevada-climate-forum-event/
LOCATION:NV
CATEGORIES:Category Event,Climate Action,Green Business,Pollution Prevention,Reno Event,Sustainability
ATTACH;FMTTYPE=image/png:https://nvgreenbusiness.org/wp-content/uploads/2025/01/Screenshot-2025-01-13-at-1.52.40 PM.png
END:VEVENT
BEGIN:VEVENT
DTSTART;TZID=America/Los_Angeles:20250128T073000
DTEND;TZID=America/Los_Angeles:20250128T093000
DTSTAMP:20260421T175552
CREATED:20250113T213925Z
LAST-MODIFIED:20250113T214123Z
UID:10000082-1738049400-1738056600@nvgreenbusiness.org
SUMMARY:NV Energy Business Energy Services 2025 Kickoff Breakfast
DESCRIPTION:Join Business Energy Services for breakfast as they unveil new\, higher incentives for energy-saving projects! They’ll provide great case studies demonstrating how the program has benefitted Nevada’s businesses. They’ll discuss how you can successfully implement energy efficiency projects\, describe enhanced opportunities for small businesses\, and highlight how contractors can benefit. \nThey’ll also discuss how to easily submit and track your project application and provide a sneak peek into our new online application! Plus\, network with industry professionals\, connect with program staff.
URL:https://nvgreenbusiness.org/event/nv-energy-business-energy-services-2025-kickoff-breakfast/
LOCATION:NV Energy GOB\, 6100 Neil Road\, NV\, 89511
CATEGORIES:Green Business,Reno Event,Sustainability
ATTACH;FMTTYPE=image/png:https://nvgreenbusiness.org/wp-content/uploads/2025/01/Screenshot-2025-01-13-at-1.25.20 PM-e1736804049239.png
END:VEVENT
BEGIN:VEVENT
DTSTART;TZID=America/Los_Angeles:20241010T180000
DTEND;TZID=America/Los_Angeles:20241010T210000
DTSTAMP:20260421T175552
CREATED:20240328T014752Z
LAST-MODIFIED:20240328T014846Z
UID:10000080-1728583200-1728594000@nvgreenbusiness.org
SUMMARY:Green Gala and Golden Pinecone Sustainability Awards 2024
DESCRIPTION:Join us for an unforgettable evening at The Green Gala\, where sustainability meets art\, fashion\, and exquisite dining. This event is a celebration of creativity and eco-consciousness\, captivating attendees with extravagant attire and costuming inspired by the beauty of nature. \nOn Wednesday\, October 10\, 2024\, starting at 6:00 PM PDT\, we will gather at 1595 N Sierra St\, Reno\, NV 89503 to celebrate our shared commitment to a greener future. \nAt The Green Gala\, we go beyond the conventional boundaries of style\, pushing the envelope with avant-garde fashion that showcases extraordinary creations. Through this unique blend of art and fashion\, we aim to raise awareness and funds for the beautification efforts of the Riverwalk District and Nevada’s Green Dining initiatives and operations. \nCelebrate this years Golden Pinecone Award recipients\, as we recognize deserving individuals and organizations for their good environmental stewardship. The awards recognize individuals and organizations for their efforts to make our community environmentally healthy and safe\, and to promote sustainable living practices. \n 
URL:https://nvgreenbusiness.org/event/green-gala-and-golden-pinecone-sustainability-awards-2024/
LOCATION:Wilbur D May Museum\, 1595 N Sierra St Reno\, Reno\, NV\, 89503
CATEGORIES:Category Event,Reno Event,Sustainability
ATTACH;FMTTYPE=image/png:https://nvgreenbusiness.org/wp-content/uploads/2024/03/FB_Banner.png
END:VEVENT
BEGIN:VEVENT
DTSTART;TZID=America/Los_Angeles:20240711T080000
DTEND;TZID=America/Los_Angeles:20240711T120000
DTSTAMP:20260421T175552
CREATED:20240326T202229Z
LAST-MODIFIED:20240326T203515Z
UID:10000076-1720684800-1720699200@nvgreenbusiness.org
SUMMARY:Green Business Certification How-to-Training on July 11\, 2024
DESCRIPTION:Attend this 1/2 day training to learn how to become a Certified Nevada Green Business. Join businesses of all sectors that have demonstrated their commitment to sustainability. \n 
URL:https://nvgreenbusiness.org/event/green-business-certification-how-to-training-on-july-11-2024/
LOCATION:NV
CATEGORIES:Climate Action,Green Business,Pollution Prevention,Reno Event
ATTACH;FMTTYPE=image/jpeg:https://nvgreenbusiness.org/wp-content/uploads/2024/03/July-Graphic-JPEG.jpg
END:VEVENT
BEGIN:VEVENT
DTSTART;TZID=America/Los_Angeles:20240504T090000
DTEND;TZID=America/Los_Angeles:20240504T130000
DTSTAMP:20260421T175552
CREATED:20240328T013408Z
LAST-MODIFIED:20240328T013408Z
UID:10000079-1714813200-1714827600@nvgreenbusiness.org
SUMMARY:KTMB Saturday Morning Cleanups
DESCRIPTION:Join KTMB for a Saturday Morning Cleanup at area parks. Each month KTMB will be doing cleanups throughout the Reno/Sparks area in conjunction with the City of Reno\, City of Sparks\, and Washoe County. To get all the details\, dates\, location\, and to sign up to volunteer\, visit https://www.ktmb.org/ktmb-saturday-morning-cleanups.
URL:https://nvgreenbusiness.org/event/ktmb-saturday-morning-cleanups/
LOCATION:Sun Valley Community Park\, 115 Sixth Ave\, Sun Valley\, NV\, 89433
CATEGORIES:Reno Event
ATTACH;FMTTYPE=image/jpeg:https://nvgreenbusiness.org/wp-content/uploads/2024/03/Sat-Morn-CUs-SVGID-May4-5-4.jpg
END:VEVENT
BEGIN:VEVENT
DTSTART;TZID=America/Los_Angeles:20240420T100000
DTEND;TZID=America/Los_Angeles:20240420T180000
DTSTAMP:20260421T175552
CREATED:20240326T205616Z
LAST-MODIFIED:20240328T015316Z
UID:10000077-1713607200-1713636000@nvgreenbusiness.org
SUMMARY:Reno Earth Day - April 20\, 2024
DESCRIPTION:Join greenUP!\, the Nevada Green Business Network\, Keep Truckee Meadows Beautiful and 300 other organizations for Reno Earth Day 2024 taking place at Idlewild Park\, April 20th 10am-6pm. \nThis is an excellent opportunity for everyone in the family to learn about the environment\, better practices. Shop\, enjoy music\, food and beer. Don’t worry\, the majority of the waste from this event is diverted. All waste is separated\, weighed\, documented and properly disposed of.
URL:https://nvgreenbusiness.org/event/reno-earth-day-april-20-2024/
LOCATION:NV
CATEGORIES:Category Event,Reno Event
ATTACH;FMTTYPE=image/jpeg:https://nvgreenbusiness.org/wp-content/uploads/2024/03/EarthDayGraphic2024.jpg
END:VEVENT
BEGIN:VEVENT
DTSTART;TZID=America/Los_Angeles:20240409T080000
DTEND;TZID=America/Los_Angeles:20240409T120000
DTSTAMP:20260421T175552
CREATED:20240326T201149Z
LAST-MODIFIED:20240328T015106Z
UID:10000075-1712649600-1712664000@nvgreenbusiness.org
SUMMARY:Learn How to Become Green Certified in Nevada
DESCRIPTION:The Nevada Green Business Network will review how businesses can earn Green Business Certification\, reduce utility and maintenance costs\, improve operational efficiency\, and expand their customer base. Featuring guest speakers from RTC Washoe\, Waste Management\, and Cleen Green.  Become green certified and join 57 businesses that are already green businesses in the state.
URL:https://nvgreenbusiness.org/event/learn-how-to-become-green-certified-in-nevada/
LOCATION:R+S Chamber of Commerce\, 4065 South Virginia Street #101\, Reno\, NV\, 89502
CATEGORIES:Category Event,Climate Action,Green Business,Pollution Prevention,Reno Event,Sustainability
ATTACH;FMTTYPE=image/jpeg:https://nvgreenbusiness.org/wp-content/uploads/2024/03/April-Graphic-JPEG.jpg
ORGANIZER;CN="Nevada Green Business Network":MAILTO:nvgreenbusiness@gmail.com
END:VEVENT
BEGIN:VEVENT
DTSTART;TZID=America/Los_Angeles:20231226T090000
DTEND;TZID=America/Los_Angeles:20240107T163000
DTSTAMP:20260421T175552
CREATED:20231121T174726Z
LAST-MODIFIED:20231121T174726Z
UID:10000074-1703581200-1704645000@nvgreenbusiness.org
SUMMARY:KTMB Christmas Tree Recycling
DESCRIPTION:Keep Truckee Meadows Beautiful is doing its annual Christmas Tree Recycling event beginning Tuesday\, December 26 through Sunday January 7 from 9am to 4:30pm daily.
URL:https://nvgreenbusiness.org/event/ktmb-christmas-tree-recycling/
LOCATION:NV
CATEGORIES:Pollution Prevention,Reno Event,Sustainability
ATTACH;FMTTYPE=image/png:https://nvgreenbusiness.org/wp-content/uploads/2023/11/KTMB-Christmas-Tree-Recycling.png
END:VEVENT
BEGIN:VEVENT
DTSTART;TZID=America/Los_Angeles:20231123T083000
DTEND;TZID=America/Los_Angeles:20231123T110000
DTSTAMP:20260421T175552
CREATED:20231121T174258Z
LAST-MODIFIED:20231121T174258Z
UID:10000073-1700728200-1700737200@nvgreenbusiness.org
SUMMARY:Scheels Turkey Trot 10K\, 2K Run or 2K Walk
DESCRIPTION:The 25th Annual Scheels Turkey Trot is happening Thursday\, November 23rd\, at 8:30 AM for a preemptive calorie burn before the big feast. Registration is happening now through November 18th! A portion of all entry fees will benefit KTMB! Sign up with friends or family for the 10k\, 2-mile run\, and 2-mile walk that starts and ends in the Scheels Parking Lot located at 1200 Scheels Drive in Sparks.
URL:https://nvgreenbusiness.org/event/scheels-turkey-trot-10k-2k-run-or-2k-walk/
LOCATION:Scheels\, 1200 Scheels Drive\, Sparks\, NV\, 89434
CATEGORIES:Reno Event
ATTACH;FMTTYPE=image/png:https://nvgreenbusiness.org/wp-content/uploads/2023/11/Turkey-Trot.png
END:VEVENT
BEGIN:VEVENT
DTSTART;TZID=America/Los_Angeles:20230817T170000
DTEND;TZID=America/Los_Angeles:20230817T200000
DTSTAMP:20260421T175552
CREATED:20230704T020017Z
LAST-MODIFIED:20230704T020017Z
UID:10000072-1692291600-1692302400@nvgreenbusiness.org
SUMMARY:
DESCRIPTION:Raise the River is KTMB’s annual fundraising event. Held at the Sensory Garden at Idylwild park. One can purchase individual tickets or Tables of 6 or Table of 8.  For more details visit KTMB’s website:  https://www.ktmb.org/raisetheriver/ \n 
URL:https://nvgreenbusiness.org/event/5427/
LOCATION:Sensory Garden at Idlewild Park\, 74 Cowan Dr\, Reno\, NV\, 89509\, United States
CATEGORIES:Reno Event
ATTACH;FMTTYPE=image/png:https://nvgreenbusiness.org/wp-content/uploads/2023/07/Raise-the-River-Event.png
END:VEVENT
BEGIN:VEVENT
DTSTART;TZID=America/Los_Angeles:20230718T083000
DTEND;TZID=America/Los_Angeles:20230718T120000
DTSTAMP:20260421T175552
CREATED:20230704T013012Z
LAST-MODIFIED:20230704T020732Z
UID:10000071-1689669000-1689681600@nvgreenbusiness.org
SUMMARY:
DESCRIPTION:The Reno+Sparks Chamber of Commerce is partnering with the Nevada Green Business Network\n(www.nvgreenbusiness.org) to support Chamber members in getting certified as a green business. \nBUSINESSES WILL LEARN:\nBecoming a green business is a great way to increase profitability. Reducing utility costs through\nenergy and water savings can free up resources that can be invested in strategic priorities. Learn\nhow green certification can help to expand your customer base by attracting environmentally\nconscious consumers.
URL:https://nvgreenbusiness.org/event/5424/
LOCATION:NV
CATEGORIES:Climate Action,Green Business,Pollution Prevention,Reno Event,Sustainability
ATTACH;FMTTYPE=image/png:https://nvgreenbusiness.org/wp-content/uploads/2023/07/Social-Media-1.png
END:VEVENT
BEGIN:VEVENT
DTSTART;TZID=America/Los_Angeles:20230413T170000
DTEND;TZID=America/Los_Angeles:20230413T190000
DTSTAMP:20260421T175552
CREATED:20230215T202714Z
LAST-MODIFIED:20230215T202714Z
UID:10000069-1681405200-1681412400@nvgreenbusiness.org
SUMMARY:2023 Golden Pinecone Sustainability Awards
DESCRIPTION:The Golden Pinecone Sustainability Awards recognize businesses\, individuals\, and organizations for their efforts to make our community more sustainable and environmentally healthy. \nPlease nominate business\, non-profits\, individuals\, and educators for any of our award categories by the deadline\, March 17:   https://tinyurl.com/cv4fhspa \nThank you!
URL:https://nvgreenbusiness.org/event/2023-golden-pinecone-sustainability-awards/
LOCATION:Great Basin Brewing Company (Taps and Tanks)\, 1155 S Rock Blvd #490\, Reno\, NV\, 89502\, United States
CATEGORIES:Climate Action,Green Business,Reno Event,Sustainability
ATTACH;FMTTYPE=image/png:https://nvgreenbusiness.org/wp-content/uploads/2023/02/Pinecone-Awards-Social-Media-Graphic-1.png
END:VEVENT
BEGIN:VEVENT
DTSTART;TZID=America/Los_Angeles:20221118T100000
DTEND;TZID=America/Los_Angeles:20221118T150000
DTSTAMP:20260421T175552
CREATED:20221003T185925Z
LAST-MODIFIED:20221003T190831Z
UID:10000067-1668765600-1668783600@nvgreenbusiness.org
SUMMARY:Sustainable Brewery Summit
DESCRIPTION:Learn about sustainable brewing practices and how to become Green Certified in the state of Nevada. Hear from fellow craft brewers about successful pollution prevention and sustainability projects. Networking opportunity for craft brewers and others in the brewing or distillery business.
URL:https://nvgreenbusiness.org/event/sustainable-brewery-summit/
LOCATION:Great Basin Brewing Company (Taps and Tanks)\, 1155 S Rock Blvd #490\, Reno\, NV\, 89502\, United States
CATEGORIES:Climate Action,Green Business,Reno Event,Sustainability
ATTACH;FMTTYPE=image/png:https://nvgreenbusiness.org/wp-content/uploads/2022/10/Brewing-Event-Graphic.png
ORGANIZER;CN="greenUP!":MAILTO:info@greenupnow.biz
END:VEVENT
BEGIN:VEVENT
DTSTART;TZID=America/Los_Angeles:20221011T080000
DTEND;TZID=America/Los_Angeles:20221011T113000
DTSTAMP:20260421T175552
CREATED:20221003T184606Z
LAST-MODIFIED:20221003T191220Z
UID:10000066-1665475200-1665487800@nvgreenbusiness.org
SUMMARY:Green Dining Training
DESCRIPTION:This FREE training for Reno+Sparks Chamber member restaurants\, will take place on Tuesday\, October 11\, from 8:00am to 11:30am. Participants can expect to learn best practices to reduce waste\, how to engage customers in waste reduction efforts\, and ways to save money on operational costs. Participants will also learn how to become a green certified business for the state of Nevada. \nAnn Silver CEO of the Reno+Sparks Chamber said\, “We know that green certified restaurants will draw more environmentally conscious customers and create greater efficiencies in their daily operations”.
URL:https://nvgreenbusiness.org/event/green-dining-training/
LOCATION:R+S Chamber of Commerce\, 4065 South Virginia Street #101\, Reno\, NV\, 89502
CATEGORIES:Climate Action,Green Business,Reno Event,Sustainability
ATTACH;FMTTYPE=image/png:https://nvgreenbusiness.org/wp-content/uploads/2022/10/Oct-11-graphic-small.png
ORGANIZER;CN="greenUP!":MAILTO:info@greenupnow.biz
END:VEVENT
BEGIN:VEVENT
DTSTART;TZID=America/Los_Angeles:20220413T073000
DTEND;TZID=America/Los_Angeles:20220413T113000
DTSTAMP:20260421T175552
CREATED:20220227T001045Z
LAST-MODIFIED:20220227T001045Z
UID:10000064-1649835000-1649849400@nvgreenbusiness.org
SUMMARY:Reno+Sparks Chamber Green Business Training
DESCRIPTION:The Reno+Sparks Chamber of Commerce is partnering with the Nevada Green Business Network (www.nvgreenbusiness.org) to support Chamber members in getting certified as a green business. Becoming a green business is a great way to increase profitability. Reducing utility costs through energy and water savings can free up resources that can be invested in strategic priorities. Learn how green certification can help to expand your customer base by attracting environmentally conscious consumers. \n7:30 – Registration and Coffee \n8:00 – Gain a Competitive Advantage through Nevada Green Business Certification \n8:30 – Lower Costs through Energy Efficiency \n9:00 – Enhance Health & Wellness through Pollution Prevention \n9:30 – Networking Break \n9:45 – Transportation: Lowering Carbon Emissions with Commute Alternatives\, Electric Vehicles. The Role of Carbon Offsets. \n10:15 – Water & Wastewater: Protect Water Resources through Water Conservation Strategies \n11:00 – Solid Waste: Conserve Resources through Waste Reduction & Recycling \n11:45 – Adjourn \n  \n 
URL:https://nvgreenbusiness.org/event/renosparks-chamber-green-business-training/
LOCATION:NV
CATEGORIES:Climate Action,Green Business,Reno Event,Sustainability
ATTACH;FMTTYPE=image/jpeg:https://nvgreenbusiness.org/wp-content/uploads/2021/11/NEW-Chamber-Logo-Clear-2.jpg
END:VEVENT
BEGIN:VEVENT
DTSTART;TZID=America/Los_Angeles:20211026T080000
DTEND;TZID=America/Los_Angeles:20211026T113000
DTSTAMP:20260421T175552
CREATED:20210901T213612Z
LAST-MODIFIED:20210903T210828Z
UID:10000058-1635235200-1635247800@nvgreenbusiness.org
SUMMARY:Nevada Green Business Training Program (October)
DESCRIPTION:  \n \nOctober Training Program Flyer \nThe Reno+Sparks Chamber of Commerce is partnering with the Nevada Green Business Network to help local businesses become green certified.  Free and exclusive to Chamber members\, the Nevada Green Business Training Program will be held on October 26\, 2021 from 8:00 am to 11:45 am at the Chamber of Commerce. \nThe first 25 businesses to RSVP to the Chamber will learn about sustainable best practices\, how to reduce utility and maintenance costs\, and what it takes to become Green Certified in Nevada. \nRSVP to: cnaisbitt@thechambernv.org. Or fill out the registration form here. \nBecoming a green business is a great way to increase profitability. Reducing utility costs through energy and water savings can free up resources that can be invested in strategic priorities. Learn how green certification can help to expand your customer base by attracting environmentally conscious consumers. \n  \n 
URL:https://nvgreenbusiness.org/event/nevada-green-business-training-program-october/
LOCATION:Reno+Sparks Chamber of Commerce Green Business Training\, 4065 S. Virginia Street\, #101\, Reno\, NV\, 89502\, United States
CATEGORIES:Green Business,Reno Event
ORGANIZER;CN="Nevada Green Business Network":MAILTO:nvgreenbusiness@gmail.com
END:VEVENT
BEGIN:VEVENT
DTSTART;TZID=America/Los_Angeles:20210722T090000
DTEND;TZID=America/Los_Angeles:20210722T103000
DTSTAMP:20260421T175552
CREATED:20210713T200448Z
LAST-MODIFIED:20210713T202656Z
UID:10000056-1626944400-1626949800@nvgreenbusiness.org
SUMMARY:Webinar:  Employees and Buildings – Office Spaces on the Move
DESCRIPTION:During COVID\, many office building workers were required to work from home. Today\, while the COVID threat is passing\, many offices are continuing to work remotely. \nThis webinar hosted by the Sustainable Building Coalition and Nevada Green Business Network addresses the practical challenges of a remote workforce. How do we continue to engage employees in sustainability practices? Are there ways that employees can reduce energy\, water and waste from home? How do we keep enthusiasm alive for sustainability as a work community? \nSpeakers: \nSuzanne Groneman from the City of Reno will discuss key considerations regarding sustainability initiatives with a remote workforce. The City will share their experience with building closures\, employee engagement both on and offsite\, and lessons learned. \nMike Matheus from McKinstry will also represent the Sustainable Building Coalition. Mike will provide stats on buildings (%) that have moved their employees to remote locations and measures to reduce energy usage due to reduced occupancy. Mike will explore trends for occupation of office buildings and creative ideas to keep buildings occupied (such as shared workspaces). \nSara DeAngelo\, Energy Advisor for Rising Sun Energy Solutions (an Associated Protected Series of AO Energy) will provide a case study on the impact of a remote team. From a corporate wide standpoint\, what adjustments are being made in terms of commuting\, reporting\, accountability and measurement? \nDonna Walden from the Nevada Green Business Network will discuss a variety of strategies to keep employees engaged using games and contests. She will also discuss using the Home Office and Virtual Teams Checklists certification as tools to keep a workforce engaged and focused on sustainability practices. \n 
URL:https://nvgreenbusiness.org/event/webinar-employees-and-buildings-office-spaces-on-the-move/
LOCATION:NV
CATEGORIES:Category Event,Climate Action,Green Business,Reno Event,Sustainability
ATTACH;FMTTYPE=image/png:https://nvgreenbusiness.org/wp-content/uploads/2020/10/nvgb_logo.png
END:VEVENT
END:VCALENDAR