BEGIN:VCALENDAR
VERSION:2.0
PRODID:-//Nevada Green Business Network - ECPv6.15.17.1//NONSGML v1.0//EN
CALSCALE:GREGORIAN
METHOD:PUBLISH
X-WR-CALNAME:Nevada Green Business Network
X-ORIGINAL-URL:https://nvgreenbusiness.org
X-WR-CALDESC:Events for Nevada Green Business Network
REFRESH-INTERVAL;VALUE=DURATION:PT1H
X-Robots-Tag:noindex
X-PUBLISHED-TTL:PT1H
BEGIN:VTIMEZONE
TZID:America/Los_Angeles
BEGIN:DAYLIGHT
TZOFFSETFROM:-0800
TZOFFSETTO:-0700
TZNAME:PDT
DTSTART:20210314T100000
END:DAYLIGHT
BEGIN:STANDARD
TZOFFSETFROM:-0700
TZOFFSETTO:-0800
TZNAME:PST
DTSTART:20211107T090000
END:STANDARD
BEGIN:DAYLIGHT
TZOFFSETFROM:-0800
TZOFFSETTO:-0700
TZNAME:PDT
DTSTART:20220313T100000
END:DAYLIGHT
BEGIN:STANDARD
TZOFFSETFROM:-0700
TZOFFSETTO:-0800
TZNAME:PST
DTSTART:20221106T090000
END:STANDARD
BEGIN:DAYLIGHT
TZOFFSETFROM:-0800
TZOFFSETTO:-0700
TZNAME:PDT
DTSTART:20230312T100000
END:DAYLIGHT
BEGIN:STANDARD
TZOFFSETFROM:-0700
TZOFFSETTO:-0800
TZNAME:PST
DTSTART:20231105T090000
END:STANDARD
END:VTIMEZONE
BEGIN:VEVENT
DTSTART;TZID=America/Los_Angeles:20220406T090000
DTEND;TZID=America/Los_Angeles:20220406T103000
DTSTAMP:20260422T183529
CREATED:20220226T233723Z
LAST-MODIFIED:20220226T234519Z
UID:10000060-1649235600-1649241000@nvgreenbusiness.org
SUMMARY:Safer Alternatives for Toxic Solvents - Graffiti Management
DESCRIPTION:A series of four (4) trainings will be given by Katy Wolf\, Ph.D. and hosted by greenUP! \nThis session will describe the graffiti removers on the market today. Millions of dollars are spent each year on graffiti control by cities and counties and safer alternatives are available. It will include a discussion of three alternative safer graffiti removers that were formulated and tested by the Institute for Research and Technical Assistance (IRTA)\, a nonprofit organization during an EPA project conducted in California. It will also include a description of many other processes and technologies that can be used for graffiti management. The costs of the alternatives will be discussed.
URL:https://nvgreenbusiness.org/event/safer-alternatives-for-toxic-chemicals-and-high-voc-content-industrial-formulations/2022-04-06/
ATTACH;FMTTYPE=image/jpeg:https://nvgreenbusiness.org/wp-content/uploads/2022/02/Graffiti.jpg
ORGANIZER;CN="greenUP!":MAILTO:info@greenupnow.biz
END:VEVENT
BEGIN:VEVENT
DTSTART;TZID=America/Los_Angeles:20220413T073000
DTEND;TZID=America/Los_Angeles:20220413T113000
DTSTAMP:20260422T183529
CREATED:20220227T001045Z
LAST-MODIFIED:20220227T001045Z
UID:10000064-1649835000-1649849400@nvgreenbusiness.org
SUMMARY:Reno+Sparks Chamber Green Business Training
DESCRIPTION:The Reno+Sparks Chamber of Commerce is partnering with the Nevada Green Business Network (www.nvgreenbusiness.org) to support Chamber members in getting certified as a green business. Becoming a green business is a great way to increase profitability. Reducing utility costs through energy and water savings can free up resources that can be invested in strategic priorities. Learn how green certification can help to expand your customer base by attracting environmentally conscious consumers. \n7:30 – Registration and Coffee \n8:00 – Gain a Competitive Advantage through Nevada Green Business Certification \n8:30 – Lower Costs through Energy Efficiency \n9:00 – Enhance Health & Wellness through Pollution Prevention \n9:30 – Networking Break \n9:45 – Transportation: Lowering Carbon Emissions with Commute Alternatives\, Electric Vehicles. The Role of Carbon Offsets. \n10:15 – Water & Wastewater: Protect Water Resources through Water Conservation Strategies \n11:00 – Solid Waste: Conserve Resources through Waste Reduction & Recycling \n11:45 – Adjourn \n  \n 
URL:https://nvgreenbusiness.org/event/renosparks-chamber-green-business-training/
CATEGORIES:Climate Action,Green Business,Reno Event,Sustainability
ATTACH;FMTTYPE=image/jpeg:https://nvgreenbusiness.org/wp-content/uploads/2021/11/NEW-Chamber-Logo-Clear-2.jpg
END:VEVENT
END:VCALENDAR