BEGIN:VCALENDAR
VERSION:2.0
PRODID:-//Nevada Green Business Network - ECPv6.15.17.1//NONSGML v1.0//EN
CALSCALE:GREGORIAN
METHOD:PUBLISH
X-ORIGINAL-URL:https://nvgreenbusiness.org
X-WR-CALDESC:Events for Nevada Green Business Network
REFRESH-INTERVAL;VALUE=DURATION:PT1H
X-Robots-Tag:noindex
X-PUBLISHED-TTL:PT1H
BEGIN:VTIMEZONE
TZID:America/Los_Angeles
BEGIN:DAYLIGHT
TZOFFSETFROM:-0800
TZOFFSETTO:-0700
TZNAME:PDT
DTSTART:20210314T100000
END:DAYLIGHT
BEGIN:STANDARD
TZOFFSETFROM:-0700
TZOFFSETTO:-0800
TZNAME:PST
DTSTART:20211107T090000
END:STANDARD
BEGIN:DAYLIGHT
TZOFFSETFROM:-0800
TZOFFSETTO:-0700
TZNAME:PDT
DTSTART:20220313T100000
END:DAYLIGHT
BEGIN:STANDARD
TZOFFSETFROM:-0700
TZOFFSETTO:-0800
TZNAME:PST
DTSTART:20221106T090000
END:STANDARD
BEGIN:DAYLIGHT
TZOFFSETFROM:-0800
TZOFFSETTO:-0700
TZNAME:PDT
DTSTART:20230312T100000
END:DAYLIGHT
BEGIN:STANDARD
TZOFFSETFROM:-0700
TZOFFSETTO:-0800
TZNAME:PST
DTSTART:20231105T090000
END:STANDARD
END:VTIMEZONE
BEGIN:VEVENT
DTSTART;TZID=America/Los_Angeles:20220420T090000
DTEND;TZID=America/Los_Angeles:20220420T103000
DTSTAMP:20260422T001123
CREATED:20220226T235047Z
LAST-MODIFIED:20220226T235047Z
UID:10000061-1650445200-1650450600@nvgreenbusiness.org
SUMMARY:Safer Alternatives for Toxic Solvents - Auto Repair Facilities
DESCRIPTION:A series of four (4) trainings will be given by Katy Wolf\, Ph.D. and hosted by greenUP! \nThis session will target the mineral spirits used in parts cleaners and the halogenated and nonhalogenated solvents used in auto aerosol cleaners today. Many of these formulations have high VOC content and many pose toxicity problems. It will focus on the water-based cleaning formulation alternatives for parts cleaning\, water-based brake cleaning formulations and equipment and safer formulations for other aerosol cleaners that were formulated and tested by IRTA in California auto repair facilities. The costs of the alternatives will be presented and discussed.
URL:https://nvgreenbusiness.org/event/safer-alternatives-for-toxic-solvents-auto-repair-facilities/
LOCATION:NV
ATTACH;FMTTYPE=image/jpeg:https://nvgreenbusiness.org/wp-content/uploads/2022/02/Auto-image.jpg
ORGANIZER;CN="greenUP!":MAILTO:info@greenupnow.biz
END:VEVENT
END:VCALENDAR