BEGIN:VCALENDAR
VERSION:2.0
PRODID:-//Nevada Green Business Network - ECPv6.15.17.1//NONSGML v1.0//EN
CALSCALE:GREGORIAN
METHOD:PUBLISH
X-WR-CALNAME:Nevada Green Business Network
X-ORIGINAL-URL:https://nvgreenbusiness.org
X-WR-CALDESC:Events for Nevada Green Business Network
REFRESH-INTERVAL;VALUE=DURATION:PT1H
X-Robots-Tag:noindex
X-PUBLISHED-TTL:PT1H
BEGIN:VTIMEZONE
TZID:America/Los_Angeles
BEGIN:DAYLIGHT
TZOFFSETFROM:-0800
TZOFFSETTO:-0700
TZNAME:PDT
DTSTART:20200308T100000
END:DAYLIGHT
BEGIN:STANDARD
TZOFFSETFROM:-0700
TZOFFSETTO:-0800
TZNAME:PST
DTSTART:20201101T090000
END:STANDARD
BEGIN:DAYLIGHT
TZOFFSETFROM:-0800
TZOFFSETTO:-0700
TZNAME:PDT
DTSTART:20210314T100000
END:DAYLIGHT
BEGIN:STANDARD
TZOFFSETFROM:-0700
TZOFFSETTO:-0800
TZNAME:PST
DTSTART:20211107T090000
END:STANDARD
BEGIN:DAYLIGHT
TZOFFSETFROM:-0800
TZOFFSETTO:-0700
TZNAME:PDT
DTSTART:20220313T100000
END:DAYLIGHT
BEGIN:STANDARD
TZOFFSETFROM:-0700
TZOFFSETTO:-0800
TZNAME:PST
DTSTART:20221106T090000
END:STANDARD
BEGIN:DAYLIGHT
TZOFFSETFROM:-0800
TZOFFSETTO:-0700
TZNAME:PDT
DTSTART:20230312T100000
END:DAYLIGHT
BEGIN:STANDARD
TZOFFSETFROM:-0700
TZOFFSETTO:-0800
TZNAME:PST
DTSTART:20231105T090000
END:STANDARD
BEGIN:DAYLIGHT
TZOFFSETFROM:-0800
TZOFFSETTO:-0700
TZNAME:PDT
DTSTART:20240310T100000
END:DAYLIGHT
BEGIN:STANDARD
TZOFFSETFROM:-0700
TZOFFSETTO:-0800
TZNAME:PST
DTSTART:20241103T090000
END:STANDARD
BEGIN:DAYLIGHT
TZOFFSETFROM:-0800
TZOFFSETTO:-0700
TZNAME:PDT
DTSTART:20250309T100000
END:DAYLIGHT
BEGIN:STANDARD
TZOFFSETFROM:-0700
TZOFFSETTO:-0800
TZNAME:PST
DTSTART:20251102T090000
END:STANDARD
BEGIN:DAYLIGHT
TZOFFSETFROM:-0800
TZOFFSETTO:-0700
TZNAME:PDT
DTSTART:20260308T100000
END:DAYLIGHT
BEGIN:STANDARD
TZOFFSETFROM:-0700
TZOFFSETTO:-0800
TZNAME:PST
DTSTART:20261101T090000
END:STANDARD
END:VTIMEZONE
BEGIN:VEVENT
DTSTART;TZID=America/Los_Angeles:20250618T110000
DTEND;TZID=America/Los_Angeles:20250618T123000
DTSTAMP:20260419T052448
CREATED:20250520T231818Z
LAST-MODIFIED:20250522T230537Z
UID:10000089-1750244400-1750249800@nvgreenbusiness.org
SUMMARY:Safer Alternatives to Toxic Solvents and Toxic Ingredients - Dry Ice Cleaning
DESCRIPTION:greenUP! and Western Nevada College are hosting a Webinar Series that will cover 1) navigating the Safer Choice label to get more industrially relevant products and 2) replacing toxic products and minimizing impacts to human health and the environment. \nScientist Dr. Katy Wolf will talk about alternatives explored including soy-based cleaners\, hydrocarbon with no aromatic component\, acetone and acetone products\, and dry ice cleaning and stripping. Suppliers and formulators will join Katy in the presentations. \nThe June 18 Webinar covers dry ice blasting and dry ice liquid cleaning as safer alternatives to toxic\, high-VOC content solvents.  Case studies will be presented for a variety of cleaning and stripping applications.
URL:https://nvgreenbusiness.org/event/safer-alternatives-to-toxic-solvents-and-toxic-ingredients-dry-ice-cleaning/
CATEGORIES:Climate Action,Green Business,Pollution Prevention,Sustainability
ATTACH;FMTTYPE=image/jpeg:https://nvgreenbusiness.org/wp-content/uploads/2025/05/Dryice3.jpg
ORGANIZER;CN="greenUP!":MAILTO:info@greenupnow.biz
END:VEVENT
BEGIN:VEVENT
DTSTART;TZID=America/Los_Angeles:20250605T110000
DTEND;TZID=America/Los_Angeles:20250605T123000
DTSTAMP:20260419T052448
CREATED:20250520T230839Z
LAST-MODIFIED:20250520T230839Z
UID:10000088-1749121200-1749126600@nvgreenbusiness.org
SUMMARY:Safer Choice Alternatives to Toxic Solvents & Toxic Ingredients - Cleaner and Coating Applications
DESCRIPTION:greenUP! and Western Nevada College are hosting a Webinar Series that will cover 1) navigating the Safer Choice label to get more industrially relevant products and 2) replacing toxic products and minimizing impacts to human health and the environment. \nScientist Dr. Katy Wolf will talk about alternatives explored including soy-based cleaners\, hydrocarbon with no aromatic component\, acetone and acetone products\, and dry ice cleaning and stripping. Suppliers and formulators will join Katy in the presentations. \nThe Cleaner and Coating Applications Webinar covers concrete floor coating for commercial buildings that minimizes dust generation\, reducing lung disease in workers and community members. Low-VOC content\, low-toxicity cleaner available in aerosol and nonaerosol form (can be used by auto shops as brake cleaner or for general purpose cleaning and spray gun cleaning\, as well as surface preparation and repair & maintenance cleaning at industrial facilities).
URL:https://nvgreenbusiness.org/event/safer-choice-alternatives-to-toxic-solvents-toxic-ingredients-cleaner-and-coating-applications/
CATEGORIES:Climate Action,Green Business,Pollution Prevention,Sustainability
ATTACH;FMTTYPE=image/jpeg:https://nvgreenbusiness.org/wp-content/uploads/2025/05/Coatings-Cleaners1.jpg
ORGANIZER;CN="greenUP!":MAILTO:info@greenupnow.biz
END:VEVENT
BEGIN:VEVENT
DTSTART;TZID=America/Los_Angeles:20250508T110000
DTEND;TZID=America/Los_Angeles:20250508T123000
DTSTAMP:20260419T052448
CREATED:20250520T224940Z
LAST-MODIFIED:20250520T224940Z
UID:10000087-1746702000-1746707400@nvgreenbusiness.org
SUMMARY:Safer Choice Alternatives to Toxic Solvents & Toxic Ingredients - Soy Based Products
DESCRIPTION:greenUP! and Western Nevada College are hosting a Webinar Series that will cover 1) navigating the Safer Choice label to get more industrially relevant products and 2) replacing toxic products and minimizing impacts to human health and the environment. \nScientist Dr. Katy Wolf will talk about alternatives explored including soy-based cleaners\, hydrocarbon with no aromatic component\, acetone and acetone products\, and dry ice cleaning and stripping. Suppliers and formulators will join Katy in the presentations.
URL:https://nvgreenbusiness.org/event/safer-choice-alternatives-to-toxic-solvents-toxic-ingredients-soy-based-products/2025-05-08/2/
CATEGORIES:Climate Action,Green Business,Pollution Prevention,Sustainability
ATTACH;FMTTYPE=image/jpeg:https://nvgreenbusiness.org/wp-content/uploads/2025/05/Soy3.jpg
ORGANIZER;CN="greenUP!":MAILTO:info@greenupnow.biz
END:VEVENT
BEGIN:VEVENT
DTSTART;TZID=America/Los_Angeles:20250508T080000
DTEND;TZID=America/Los_Angeles:20250508T170000
DTSTAMP:20260419T052448
CREATED:20250520T224940Z
LAST-MODIFIED:20250520T224940Z
UID:10000086-1746691200-1746723600@nvgreenbusiness.org
SUMMARY:Safer Choice Alternatives to Toxic Solvents & Toxic Ingredients - Soy Based Products
DESCRIPTION:greenUP! and Western Nevada College are hosting a Webinar Series that will cover 1) navigating the Safer Choice label to get more industrially relevant products and 2) replacing toxic products and minimizing impacts to human health and the environment. \nScientist Dr. Katy Wolf will talk about alternatives explored including soy-based cleaners\, hydrocarbon with no aromatic component\, acetone and acetone products\, and dry ice cleaning and stripping. Suppliers and formulators will join Katy in the presentations.
URL:https://nvgreenbusiness.org/event/safer-choice-alternatives-to-toxic-solvents-toxic-ingredients-soy-based-products/2025-05-08/1/
CATEGORIES:Climate Action,Green Business,Pollution Prevention,Sustainability
ATTACH;FMTTYPE=image/jpeg:https://nvgreenbusiness.org/wp-content/uploads/2025/05/Soy3.jpg
ORGANIZER;CN="greenUP!":MAILTO:info@greenupnow.biz
END:VEVENT
BEGIN:VEVENT
DTSTART;TZID=America/Los_Angeles:20230413T170000
DTEND;TZID=America/Los_Angeles:20230413T190000
DTSTAMP:20260419T052448
CREATED:20230215T202714Z
LAST-MODIFIED:20230215T202714Z
UID:10000069-1681405200-1681412400@nvgreenbusiness.org
SUMMARY:2023 Golden Pinecone Sustainability Awards
DESCRIPTION:The Golden Pinecone Sustainability Awards recognize businesses\, individuals\, and organizations for their efforts to make our community more sustainable and environmentally healthy. \nPlease nominate business\, non-profits\, individuals\, and educators for any of our award categories by the deadline\, March 17:   https://tinyurl.com/cv4fhspa \nThank you!
URL:https://nvgreenbusiness.org/event/2023-golden-pinecone-sustainability-awards/
LOCATION:Great Basin Brewing Company (Taps and Tanks)\, 1155 S Rock Blvd #490\, Reno\, NV\, 89502\, United States
CATEGORIES:Climate Action,Green Business,Reno Event,Sustainability
ATTACH;FMTTYPE=image/png:https://nvgreenbusiness.org/wp-content/uploads/2023/02/Pinecone-Awards-Social-Media-Graphic-1.png
END:VEVENT
BEGIN:VEVENT
DTSTART;TZID=America/Los_Angeles:20230405T083000
DTEND;TZID=America/Los_Angeles:20230405T120000
DTSTAMP:20260419T052448
CREATED:20230301T200350Z
LAST-MODIFIED:20230301T200350Z
UID:10000070-1680683400-1680696000@nvgreenbusiness.org
SUMMARY:Southern Nevada Sustainable Brewery Summit
DESCRIPTION:Learn about sustainable brewing practices and how to become Green Certified in the state of Nevada. Hear from fellow craft brewers about successful pollution prevention and sustainability projects. Network with fellow craft brewers.
URL:https://nvgreenbusiness.org/event/southern-nevada-sustainable-brewery-summit/
ATTACH;FMTTYPE=image/png:https://nvgreenbusiness.org/wp-content/uploads/2023/02/4.png
ORGANIZER;CN="Nevada Green Business Network":MAILTO:nvgreenbusiness@gmail.com
END:VEVENT
BEGIN:VEVENT
DTSTART;TZID=America/Los_Angeles:20221118T100000
DTEND;TZID=America/Los_Angeles:20221118T150000
DTSTAMP:20260419T052448
CREATED:20221003T185925Z
LAST-MODIFIED:20221003T190831Z
UID:10000067-1668765600-1668783600@nvgreenbusiness.org
SUMMARY:Sustainable Brewery Summit
DESCRIPTION:Learn about sustainable brewing practices and how to become Green Certified in the state of Nevada. Hear from fellow craft brewers about successful pollution prevention and sustainability projects. Networking opportunity for craft brewers and others in the brewing or distillery business.
URL:https://nvgreenbusiness.org/event/sustainable-brewery-summit/
LOCATION:Great Basin Brewing Company (Taps and Tanks)\, 1155 S Rock Blvd #490\, Reno\, NV\, 89502\, United States
CATEGORIES:Climate Action,Green Business,Reno Event,Sustainability
ATTACH;FMTTYPE=image/png:https://nvgreenbusiness.org/wp-content/uploads/2022/10/Brewing-Event-Graphic.png
ORGANIZER;CN="greenUP!":MAILTO:info@greenupnow.biz
END:VEVENT
BEGIN:VEVENT
DTSTART;TZID=America/Los_Angeles:20211022T083000
DTEND;TZID=America/Los_Angeles:20211022T133000
DTSTAMP:20260419T052448
CREATED:20210802T205259Z
LAST-MODIFIED:20210819T210907Z
UID:10000057-1634891400-1634909400@nvgreenbusiness.org
SUMMARY:Auto Repair and Auto Body Pollution Prevention Workshop and Tradeshow
DESCRIPTION:  \nWestern Nevada College and greenUP! invite Auto Shops from all over Nevada to attend. College students and professionals in the automotive industry are also invited. \nTopics covered during this FREE workshop will be environmental best management practices (BMPs)\, alternatives to harmful cleaners and solvents\, electric vehicles\, and how to become green certified in the state of Nevada.
URL:https://nvgreenbusiness.org/event/free-auto-repair-and-auto-body-pollution-prevention-workshop-and-tradeshow/
CATEGORIES:Climate Action,Green Business,Sustainability
ORGANIZER;CN="greenUP!":MAILTO:info@greenupnow.biz
END:VEVENT
END:VCALENDAR